BEGIN:VCALENDAR
VERSION:2.0
PRODID:-//Rock Energy Storage - ECPv6.15.20//NONSGML v1.0//EN
CALSCALE:GREGORIAN
METHOD:PUBLISH
X-ORIGINAL-URL:https://rockenergystorage.com
X-WR-CALDESC:Events for Rock Energy Storage
REFRESH-INTERVAL;VALUE=DURATION:PT1H
X-Robots-Tag:noindex
X-PUBLISHED-TTL:PT1H
BEGIN:VTIMEZONE
TZID:UTC
BEGIN:STANDARD
TZOFFSETFROM:+0000
TZOFFSETTO:+0000
TZNAME:UTC
DTSTART:20230101T000000
END:STANDARD
END:VTIMEZONE
BEGIN:VEVENT
DTSTART;TZID=UTC:20260218T080000
DTEND;TZID=UTC:20260218T170000
DTSTAMP:20260424T143033
CREATED:20260217T153818Z
LAST-MODIFIED:20260217T153818Z
UID:7301-1771401600-1771434000@rockenergystorage.com
SUMMARY:IDEA Campus Energy 2026 - Integrating SMR's with Thermal Energy Storage (TES) for campus decarbonization
DESCRIPTION:We are excited to invite you to join us for IDEA’s CampusEnergy2026 Conference & Trade Show\, taking place at the Gaylord National Resort & Convention Center in National Harbor\, just minutes from Washington\, D.C.\n\nThis premier event will bring together campus leaders\, industry innovators\, policymakers\, and students from across North America and around the world to explore the latest strategies and solutions for advancing sustainable\, resilient\, and low-carbon energy systems.\n\nThe program is bursting with insightful sessions\, pre-conference workshops\, panels\, and poster presentations\, covering the most pressing issues in campus and district energy. Whether you’re focused on advancing decarbonization\, exploring new technologies\, or scaling solutions across multiple campuses\, CampusEnergy2026 offers unparalleled learning opportunities tailored to your needs. \nWant to be see the latest technologies? The IDEA Exhibit Hall will be packed with the latest innovations from a wide array of technology providers and service partners. Meet with companies driving industry change and to build the professional relationships that will power for next project. \nSet against the backdrop of the nation’s capital\, National Harbor offers a vibrant waterfront setting with the convenience of being close to Washington\, D.C.’s historic landmarks and institutions. The Gaylord hotel is a state-of the-art wonder\, a dynamic venue for learning\, networking\, and collaboration—making CampusEnergy2026 an event you won’t want to miss. \n\nJoin IDEA and over 1200 district energy professionals in the Washington\, DC area for four jam-packed days!
URL:https://rockenergystorage.com/event/idea-campus-energy-2026-integrating-smrs-with-thermal-energy-storage-tes-for-campus-decarbonization/
LOCATION:Gaylord National Resort and Convention Center\, 201 Waterfront St.\,\, Oxon Hill\, MD\, 20745\, United States
ATTACH;FMTTYPE=image/png:https://rockenergystorage.com/wp-content/uploads/2026/02/Trade-Show-Graphics-RES-2-1.png
ORGANIZER;CN="International District Energy Association":MAILTO:idea@districtenergy.org
END:VEVENT
BEGIN:VEVENT
DTSTART;TZID=UTC:20251104T090000
DTEND;TZID=UTC:20251104T103000
DTSTAMP:20260424T143033
CREATED:20251029T200154Z
LAST-MODIFIED:20251029T200154Z
UID:7273-1762246800-1762252200@rockenergystorage.com
SUMMARY:Thermal Energy Storage and the AI Race: Enabling 128 GW of Grid-Ready Capacity by 2030
DESCRIPTION:Thermal Energy Storage and the AI Race: Enabling 128 GW of Grid-Ready Capacity by 2030\nAs artificial intelligence accelerates global innovation\, the explosive growth of AI-powered data centers is projected to add over 128 GW of new electricity demand to the U.S. grid by 2030. In response\, the White House is forming the National Energy Dominance Council (NEDC) to develop strategies that ensure U.S. leadership in AI while maintaining grid stability and energy security. But the key question remains: how can we enable this unprecedented growth—quickly\, affordably\, and at scale? \nThis panel explores the game-changing role of Thermal Energy Storage (TES) in meeting the AI-driven capacity challenge. Unlike traditional generation or battery storage\, TES can be deployed rapidly (in as little as 120 days)\, offers low Levelized Cost of Energy (LCOE) compaired to other storage technologies\, and requires no interconnection or siting delays—making it an ideal solution to unlock grid capacity where and when it is needed most.\nThe session will bring together four leading TES providers to showcase real-world applications across diverse sectors: \n\nSteffes Corporation will present innovations in residential heating TES\, enabling flexible\, grid-responsive load in homes across the country.\nTrane will demonstrate HVAC-based TES for large commercial buildings\, shaping peak loads and enhancing building resilience.\nMichaels Energy will share how TES is being deployed in commercial and industrial refrigeration\, including food logistics and cold storage\, where round-the-clock reliability is critical. They will also include a case study for a 1.25M sq. ft. data center that uses TES for peak cooling loads.\nRock Energy will discuss the application of TES in industrial heating\, replacing fossil fuels and delivering dispatchable thermal loads.
URL:https://rockenergystorage.com/event/thermal-energy-storage-and-the-ai-race-enabling-128-gw-of-grid-ready-capacity-by-2030/
LOCATION:Westin Lake Las Vegas Resort\, 101 Montelago Blvd\,\, Henderson\, NV\, 89011\, United States
ATTACH;FMTTYPE=image/png:https://rockenergystorage.com/wp-content/uploads/2025/10/Trade-Show-Graphics-RES-3.png
END:VEVENT
BEGIN:VEVENT
DTSTART;TZID=UTC:20251023T153000
DTEND;TZID=UTC:20251023T163000
DTSTAMP:20260424T143033
CREATED:20251009T170259Z
LAST-MODIFIED:20251009T170259Z
UID:7261-1761233400-1761237000@rockenergystorage.com
SUMMARY:ABLC Next - [Panel] The Hot New Technologies Summit
DESCRIPTION:A panel on different technologies that support the production of sustainable advanced biofuels.
URL:https://rockenergystorage.com/event/ablc-next-panel-the-hot-new-technologies-summit/
LOCATION:San Francisco’s Hotel Nikko\, 222 Mason Street\, San Francisco\, CA\, 94102\, United States
ATTACH;FMTTYPE=image/png:https://rockenergystorage.com/wp-content/uploads/2025/10/Trade-Show-Graphics-RES.png
END:VEVENT
BEGIN:VEVENT
DTSTART;TZID=UTC:20250910T140000
DTEND;TZID=UTC:20250910T150000
DTSTAMP:20260424T143033
CREATED:20250908T134522Z
LAST-MODIFIED:20250908T134522Z
UID:7254-1757512800-1757516400@rockenergystorage.com
SUMMARY:2025 Las Vegas Technology & Market Assessment Forum
DESCRIPTION:Rock Energy Storage is speaking at 2025 Las Vegas Technology & Market Forum (TMAF): \n\nSpeaker: Jim Koontz | EVP of Rock Energy Storage\nTopic: Modular & Scalable Thermal Energy Storage Solution\nLocation: Grand Ballroom 2-3\nDate & Time: September 10th\n\nMore information about ESC TMAF event: \nGet the stage ready\, ESC is bringing the Technology & Market Assessment Forum (TMAF) to Las Vegas\, NV. \nTMAF is the Energy Solutions Center’s premier education and networking conference for gas utility marketing\, sales\, and customer support representatives from throughout North America. The two and a half-day conference focuses on educating utility professionals about the latest gas solutions\, marketing\, sales and customer outreach\, and conservation. We guarantee that each attendee will gain new and innovative approaches to bringing energy-efficient natural gas solutions to residential\, commercial\, and industrial customers. \nWhat to expect at TMAF? \n\nMore than 30 sessions covering topics related to the residential\, commercial\, and industrial segments of the energy industry including utility company case studies and marketing strategies\, low carbon projects\, and new and emerging gas technology solutions. Natural Gas Vehicles and Foodservice specialty tracks.\nExhibit hall featuring gas technology manufacturers and suppliers\nTwo complimentary evening receptions\nNetworking opportunities with fellow utility professionals and other industry stakeholders
URL:https://rockenergystorage.com/event/2025-las-vegas-technology-market-assessment-forum/
LOCATION:Palms Resort\, 4321 W Flamingo Rd\, Las Vegas\, NV\, 89103\, United States
ATTACH;FMTTYPE=image/png:https://rockenergystorage.com/wp-content/uploads/2025/09/Marketing-Graphic.png
END:VEVENT
BEGIN:VEVENT
DTSTART;VALUE=DATE:20250621
DTEND;VALUE=DATE:20250626
DTSTAMP:20260424T143033
CREATED:20250528T203237Z
LAST-MODIFIED:20250528T203237Z
UID:7232-1750464000-1750895999@rockenergystorage.com
SUMMARY:2025 ASHRAE Annual Conference - Heat Storage for Institutional Buildings
DESCRIPTION:Seminar 24 – Presentation 2: Heat Storage for Institutional Buildings [Monday\, June 23rd 8:20 AM – 8:40 AM MST] *LIVE STREAM*\nPresenting Author: Jim Koontz\, Rock Energy Storage. \nJoin us to listen to the author’s presentation on “Heat Storage for Institutional Buildings”. \nSummary: The Wolfson Hospital is a 635 bed\, multi-disciplinary medical facility. The hospital’s management wanted to reduce their GHG emissions\, in addition to reducing their annual energy costs. After reviewing numerous options\, the hospital selected the Brenmiller patented bGen technology to replace their aging boiler system. The final system sizing and design specified a 15 MW-hour bGen system which now provides a steam to the facility for building heat\, domestic hot water\, and HVAC systems. \nLearning Objectives:\n\nUnderstanding the technology\, use cases and best project applications for Thermal Energy Storage.\nUnderstand the site criteria for ideal Thermal Energy Storage project/installation.\n\nLocation: Phoenix Convention Center\, North Building\, 224B *VIRTUAL LINK AVAILABLE UPON REGISTRATION* \n 
URL:https://rockenergystorage.com/event/2025-ashrae-annual-conference-heat-storage-for-institutional-buildings/
LOCATION:Phoenix Convention Center\, 429e E monroe Street\, Phoenix\, AZ\, 85004\, United States
ATTACH;FMTTYPE=image/png:https://rockenergystorage.com/wp-content/uploads/2025/05/2025-Annual-Conference-Attendee-.png
END:VEVENT
BEGIN:VEVENT
DTSTART;VALUE=DATE:20250609
DTEND;VALUE=DATE:20250612
DTSTAMP:20260424T143033
CREATED:20250530T180347Z
LAST-MODIFIED:20250530T180347Z
UID:7239-1749427200-1749686399@rockenergystorage.com
SUMMARY:2025 TechConnect World Innovation Conference and Expo - SPEAKING at Energy Storage Panel
DESCRIPTION:Presenter: Jim Koontz\, VP – Rock Energy Storage \nJoin us to listen to the author’s presentation on “Thermal Energy Storage project at Hospital will reduce GHG emissions by 95% and thermal energy costs by 40%”. \nSummary: Thermal Energy Storage (aka- Thermal Batteries) continues to advance as cost-effective solution for decarbonizing thermal energy loads traditionally dependent on fossil fuels. A key differentiator of Thermal Energy Storage (TES) is the ability to use off-peak power\, when rates are lowest\, and efficiently convert & store this power into useful thermal energy. This stored thermal energy can then be used\, as needed\, to provide either steam or hot water loads. The Wolfson Hospital is a 635 bed\, multi-disciplinary medical facility. \nThe hospital’s management wanted to reduce their GHG emissions\, in addition to reducing their annual energy costs. After reviewing numerous options\, the hospital selected the Brenmiller patented bGEN technology to replace their aging boiler system. The final system sizing and design specified a 15 MW-hour bGEN system which now provides steam to the facility for building heat\, domestic hot water\, and HVAC systems. The bGEN system will reduce Carbon emissions by 3\,900 tons per year\, and overall GHG reduction of 95%. \nSince the bGEN system is charged during off-peak hours\, when prices are lowest\, this reduced their annual energy cost of steam production by 35%. Like most healthcare facilities\, the hospital had tremendous budgetary constraints for capital projects. Due to the project’s robust energy cost savings\, the Hospital installed the project via an ESCO agreement.
URL:https://rockenergystorage.com/event/2025-techconnect-world-innovation-conference-and-expo-speaking-at-energy-storage-panel/
LOCATION:JW Marriott Austin\, 110 East 2nd Street\, Austin\, TX\, 78701\, United States
ATTACH;FMTTYPE=image/png:https://rockenergystorage.com/wp-content/uploads/2025/05/Graphic.png
END:VEVENT
BEGIN:VEVENT
DTSTART;VALUE=DATE:20250602
DTEND;VALUE=DATE:20250606
DTSTAMP:20260424T143033
CREATED:20250514T142056Z
LAST-MODIFIED:20250514T142056Z
UID:7221-1748822400-1749167999@rockenergystorage.com
SUMMARY:IDEA 2025 - District Energy
DESCRIPTION:Hundreds of district energy colleagues will gather in Minneapolis under the theme\, “Aggregate\, Integrate\, Innovate.” We believe these principles are the driving force for the success of district energy\, delivering a resilient and sustainable energy solution for cities and communities worldwide. Through insightful educational sessions\, a packed exhibit hall\, and the meaningful discussions had throughout the event\, we’ll demonstrate how. \nBy aggregating the heating\, cooling\, and power needs of multiple buildings\, district energy systems streamline energy production and distribution\, reducing overall resource consumption. This centralized approach allows for the efficient use of renewable energy sources and makes it easier to manage energy demands across a wide area. \nDistrict energy systems also integrate diverse energy sources into a cohesive network\, enhancing efficiency\, reducing carbon emissions\, and making the communities they serve more sustainable. \nDistrict energy systems are at the forefront of innovation\, adopting cutting-edge technologies and practices and serving as a model for other cities to implement. Ongoing investments in modernizing infrastructure and expanding renewable energy capabilities will ensure that district energy remains a champion of sustainable urban development. \n\nCities\, communities\, campuses and clusters around the world are implementing district energy infrastructure. Come meet with your peers who\, like you\, are making a difference every day\, and leave with fresh ideas and renewed enthusiasm to tackle your toughest challenges.
URL:https://rockenergystorage.com/event/idea-2025-district-energy/
LOCATION:Hyatt Regency Minneapolis\, 1300 Nicollet Mall\, Minneapolis\, MN\, 55403\, United States
ATTACH;FMTTYPE=image/png:https://rockenergystorage.com/wp-content/uploads/2025/04/Blue-and-White-Seminar-Event-LinkedIn-Post-4.png
ORGANIZER;CN="International District Energy Association":MAILTO:idea@districtenergy.org
END:VEVENT
BEGIN:VEVENT
DTSTART;VALUE=DATE:20250513
DTEND;VALUE=DATE:20250516
DTSTAMP:20260424T143033
CREATED:20250505T175526Z
LAST-MODIFIED:20250505T175526Z
UID:7225-1747094400-1747353599@rockenergystorage.com
SUMMARY:Capture The Energy 2025
DESCRIPTION:The Capture the Energy® 2025 Conference & Expo is the premier event for companies seeking opportunities in the rapidly growing energy storage industry in New York and the northeastern United States. \nHosted by NY-BEST\, Capture the Energy® brings together hundreds of experts in the energy storage and renewable energy industry who are advancing energy storage to meet our climate goals\, modernize our grid and transportation systems and grow the clean energy economy.
URL:https://rockenergystorage.com/event/capture-the-energy-2025/
LOCATION:Albany Capital Center\, 55 Eagle Street\, Albany\, NY\, 12207\, United States
ATTACH;FMTTYPE=image/png:https://rockenergystorage.com/wp-content/uploads/2025/05/Blue-and-White-Seminar-Event-LinkedIn-Post-3.png
ORGANIZER;CN="New York Battery and Energy Storage Technology":MAILTO:info@ny-best.org
END:VEVENT
BEGIN:VEVENT
DTSTART;TZID=UTC:20250407T080000
DTEND;TZID=UTC:20250409T170000
DTSTAMP:20260424T143033
CREATED:20250331T190111Z
LAST-MODIFIED:20250331T190111Z
UID:7209-1744012800-1744218000@rockenergystorage.com
SUMMARY:NY Energy Summit 2025
DESCRIPTION:Infocast’s New York Energy Summit returns to Albany in April 2025 with a remarkable roster of energy sector leaders to discuss the policy landscape and explore emerging opportunities on the path to achieving the state’s ambitious CES targets. \nNew York has become one of the most dynamic energy markets in the United States\, with tremendous opportunities in the planning\, developing\, financing\, and construction of utility-scale onshore and offshore generation\, energy storage projects\, community and C&I distributed energy resources\, new transmission assets\, clean energy manufacturing\, and decarbonization projects across multiple sectors. However\, only those keeping up with the latest developments in this rapidly evolving environment will be properly positioned to seize the very best opportunities on offer in the Empire State. \nThe New York Energy Summit is your premier opportunity to network with over 400 regulators\, market operators\, utilities\, renewable developers\, and innovators from across the Empire State’s energy industry.
URL:https://rockenergystorage.com/event/ny-energy-summit-2025/
LOCATION:Albany Capital Center\, 55 Eagle Street\, Albany\, NY\, 12207\, United States
ATTACH;FMTTYPE=image/png:https://rockenergystorage.com/wp-content/uploads/2025/03/Blue-and-White-Seminar-Event-LinkedIn-Post-3.png
ORGANIZER;CN="Infocast Inc.":MAILTO:registration@infocastevents.com
END:VEVENT
BEGIN:VEVENT
DTSTART;VALUE=DATE:20250203
DTEND;VALUE=DATE:20250207
DTSTAMP:20260424T143033
CREATED:20241217T214033Z
LAST-MODIFIED:20241217T214033Z
UID:7179-1738540800-1738886399@rockenergystorage.com
SUMMARY:Campus Energy 2025\, Boston\, MA
DESCRIPTION:Join with over 1200 attendees for three days of educational content featuring two pre-conference workshops\, a vibrant technical program\, a packed exhibit hall\, and multiple tours of operating district energy systems. Stay tuned for program and registration information coming soon!\nLearn from Industry Experts. Discover the latest technologies. Connect with Colleagues at CampusEnergy2025.\n\n\nCampusEnergy2025\, coming to the Westin Boston Seaport District\, February 3-6\, is an unparalleled opportunity to learn from industry experts\, discover cutting-edge technologies\, and connect with colleagues from across the district energy landscape. \n\nJoin IDEA and over 1200 district energy professionals in Beantown for for four jam-packed days that will deliver: \n\nCutting-Edge Insights: Discover the latest trends and innovations in campus energy management. Learn from top experts and industry leaders about strategies and technologies that are shaping the future of the industry.\nActionable Solutions: Explore real-world solutions from colleagues with ‘been there\, done that’ experiences\, offering insights that can help your campus achieve its sustainability and decarbonization goals.\nNetworking Opportunities: Connect with peers\, thought leaders\, and innovators from around the globe. Share ideas\, collaborate on projects\, and build lasting relationships that will drive your campus energy initiatives forward.\nInteractive Sessions: Engage in thought-provoking workshops\, inspiring panel discussions\, Q&A sessions\, and poster presentations. Gain practical knowledge and tools you can implement immediately to enhance your campus’s energy strategy.\nFuture-Focused Agenda: Dive into a program designed to address the challenges and opportunities of tomorrow’s energy landscape. Be part of the conversation about how to create a sustainable\, resilient campus environment for future generations.
URL:https://rockenergystorage.com/event/campus-energy-2025-boston-ma/
LOCATION:The Westin Boston Seaport Hotel\, 425 Summer Street\, Boston\, NY\, 02210\, United States
ATTACH;FMTTYPE=image/png:https://rockenergystorage.com/wp-content/uploads/2024/12/Blue-and-White-Seminar-Event-LinkedIn-Post-2-1.png
ORGANIZER;CN="International District Energy Association":MAILTO:idea@districtenergy.org
END:VEVENT
BEGIN:VEVENT
DTSTART;TZID=UTC:20240926T100000
DTEND;TZID=UTC:20240926T120000
DTSTAMP:20260424T143033
CREATED:20240904T131911Z
LAST-MODIFIED:20240904T131911Z
UID:6964-1727344800-1727352000@rockenergystorage.com
SUMMARY:Climate Week: New Technology Showcase [TES]
DESCRIPTION:Join the Rock Energy Storage team for a tour of our first Thermal Energy Storage installation in North America at SUNY Purchase College Campus.\nThis tour is hosted by the Climate Group during Climate Week NYC. Climate Week NYC is the largest annual climate event of its kind\, bringing together over 600 events and activities across the City of New York – in person\, hybrid and online. Each year\, business leaders\, political change makers\, local decision takers and civil society representatives of all ages and backgrounds\, from all over the world\, gather to drive the transition\, speed up progress\, and champion change that is already happening. \n\nTo register for this event\, please see the event registration form below.\nIf you have any questions\, email us at info@rockenergystorage.com.
URL:https://rockenergystorage.com/event/climate-week-new-technology-showcase-tes/
LOCATION:SUNY Purchase College Campus parking lot #6\, 41.04993328290602\, -73.6974856093821
ATTACH;FMTTYPE=image/jpeg:https://rockenergystorage.com/wp-content/uploads/2024/03/news-pic-02-brenmiler.jpg
END:VEVENT
BEGIN:VEVENT
DTSTART;TZID=UTC:20240717T120000
DTEND;TZID=UTC:20240717T130000
DTSTAMP:20260424T143033
CREATED:20240919T195945Z
LAST-MODIFIED:20240919T195945Z
UID:6988-1721217600-1721221200@rockenergystorage.com
SUMMARY:Decarbonization of Thermal Processes via "Thermal Batteries" - DER webinar Series
DESCRIPTION:Join Rock Energy Storage in The Distributed Energy Resources Webinar Series Co-Sponsored by DOE Midwest Onsite Energy Technical Assistance Partnership & the Midwest Cogeneration Association.
URL:https://rockenergystorage.com/event/decarbonization-of-thermal-processes-via-thermal-batteries-der-webinar-series/
LOCATION:MD
END:VEVENT
BEGIN:VEVENT
DTSTART;TZID=UTC:20240618T070000
DTEND;TZID=UTC:20240620T130000
DTSTAMP:20260424T143033
CREATED:20240514T003345Z
LAST-MODIFIED:20240607T183803Z
UID:5748-1718694000-1718888400@rockenergystorage.com
SUMMARY:IDEA 2024\, Orlando\, FL
DESCRIPTION:Join Rock Energy Storage and hundreds of district energy colleagues in Orlando for IDEA 2024\nThe IDEA Annual Conference is where international leaders in district energy converge to discuss the future of the industry. This year’s theme\, “District Energy for Sustainable Cities\,” will take place at the Renaissance Orlando at SeaWorld\, June 17-20. \nCities\, communities\, campuses and clusters are implementing district energy infrastructure to mitigate and prepare for the impacts of climate change\, cut emissions and provide a more robust\, resilient and connected local economy. In 2024\, industry focus on de-carbonizing and fortifying energy systems will involve partnering\, planning and robust investment. \nThe June 17 pre-conference workshop\, “District Energy for Sustainable Cities”\, will provide insight and deeper dialogue on planning\, evaluating and implementing low-carbon community-scale solutions. And\, If you are with a natural gas or electric utility\, regulatory agency or policy-making entity with responsibility for oversight or launching a thermal energy network (TEN)\, the IDEA conference & trade show will provide timely\, real-world expertise on multiple technologies with direct access to experienced industry partners\, in this workshop and beyond.
URL:https://rockenergystorage.com/event/join-rock-energy-storage-in-orlando-for-idea-2024/
LOCATION:The Renaissance Orlando at SeaWrold\, 6677 Sea Harbor Dr\,\, Orlando\, FL
ATTACH;FMTTYPE=image/jpeg:https://rockenergystorage.com/wp-content/uploads/2024/05/IDEA2024_Speaking_LI_Post_1200x628.jpg
END:VEVENT
END:VCALENDAR